BEGIN:VCALENDAR
VERSION:2.0
PRODID:icalendar-ruby
CALSCALE:GREGORIAN
METHOD:PUBLISH
BEGIN:VEVENT
DTSTAMP:20260422T232407Z
UID:18-465717@stmarkbc.org
DTSTART:20260930T170000Z
DTEND:20260930T180000Z
CLASS:PUBLIC
CREATED:20260422T135131
DESCRIPTION:A Service of Holy Communion using the Book of Common Prayer.
LAST-MODIFIED:20260422T135131
LOCATION:The Parish of St. Mark - Ocean Park
SUMMARY:Wednesday Eucharist
URL;VALUE=URI:https://www.stmarkbc.org/events/wednesday-eucharist/2026-09-3
 0
ATTACH;FILENAME=Holy.png;FMTTYPE=image/png:https://dq5pwpg1q8ru0.cloudfront
 .net/2024/11/29/17/29/38/645a1b67-4b06-450a-a00b-f2c1b746e919/Holy.png
END:VEVENT
END:VCALENDAR
